<metadata xml:lang="en"><Esri><CreaDate>20200724</CreaDate><CreaTime>21215800</CreaTime><ArcGISFormat>1.0</ArcGISFormat><ArcGISstyle>ISO 19139 Metadata Implementation Specification GML3.2</ArcGISstyle><SyncOnce>FALSE</SyncOnce><DataProperties><itemProps><itemName Sync="TRUE">LDoS_Tslope_tau_pos_p01.tif</itemName><itemLocation><linkage Sync="TRUE">file://C:\Metadata\ERL\F1c\LDoS_Tslope_tau_pos_p01.tif</linkage><protocol Sync="TRUE">Local Area Network</protocol></itemLocation><imsContentType Sync="FALSE" export="False">004</imsContentType><nativeExtBox><westBL Sync="TRUE">5825230.783200</westBL><eastBL Sync="TRUE">6649000.788016</eastBL><southBL Sync="TRUE">4336607.034330</southBL><northBL Sync="TRUE">4794823.308100</northBL><exTypeCode Sync="TRUE">1</exTypeCode></nativeExtBox></itemProps><coordRef><type Sync="TRUE">Projected</type><geogcsn Sync="TRUE">GCS_WGS_1984</geogcsn><csUnits Sync="TRUE">Linear Unit: Meter (1.000000)</csUnits><projcsn Sync="TRUE">WGS_1984_Sinusoidal</projcsn><peXml Sync="TRUE">&lt;ProjectedCoordinateSystem xsi:type='typens:ProjectedCoordinateSystem' xmlns:xsi='http://www.w3.org/2001/XMLSchema-instance' xmlns:xs='http://www.w3.org/2001/XMLSchema' xmlns:typens='http://www.esri.com/schemas/ArcGIS/10.6'&gt;&lt;WKT&gt;PROJCS[&amp;quot;WGS_1984_Sinusoidal&amp;quot;,GEOGCS[&amp;quot;GCS_WGS_1984&amp;quot;,DATUM[&amp;quot;D_WGS_1984&amp;quot;,SPHEROID[&amp;quot;WGS_1984&amp;quot;,6378137.0,298.257223563]],PRIMEM[&amp;quot;Greenwich&amp;quot;,0.0],UNIT[&amp;quot;Degree&amp;quot;,0.0174532925199433]],PROJECTION[&amp;quot;Sinusoidal&amp;quot;],PARAMETER[&amp;quot;false_easting&amp;quot;,0.0],PARAMETER[&amp;quot;false_northing&amp;quot;,0.0],PARAMETER[&amp;quot;central_meridian&amp;quot;,0.0],UNIT[&amp;quot;Meter&amp;quot;,1.0]]&lt;/WKT&gt;&lt;XOrigin&gt;-20037700&lt;/XOrigin&gt;&lt;YOrigin&gt;-10002100&lt;/YOrigin&gt;&lt;XYScale&gt;224756315.71340498&lt;/XYScale&gt;&lt;ZOrigin&gt;-100000&lt;/ZOrigin&gt;&lt;ZScale&gt;10000&lt;/ZScale&gt;&lt;MOrigin&gt;-100000&lt;/MOrigin&gt;&lt;MScale&gt;10000&lt;/MScale&gt;&lt;XYTolerance&gt;0.001&lt;/XYTolerance&gt;&lt;ZTolerance&gt;0.001&lt;/ZTolerance&gt;&lt;MTolerance&gt;0.001&lt;/MTolerance&gt;&lt;HighPrecision&gt;true&lt;/HighPrecision&gt;&lt;/ProjectedCoordinateSystem&gt;</peXml></coordRef><RasterProperties><General><PixelDepth Sync="TRUE">32</PixelDepth><HasColormap Sync="TRUE">FALSE</HasColormap><CompressionType Sync="TRUE">None</CompressionType><NumBands Sync="TRUE">1</NumBands><Format Sync="TRUE">TIFF</Format><HasPyramids Sync="TRUE">FALSE</HasPyramids><SourceType Sync="TRUE">continuous</SourceType><PixelType Sync="TRUE">floating point</PixelType><NoDataValue Sync="TRUE">-3.4028235e+38</NoDataValue></General></RasterProperties></DataProperties><SyncDate>20200728</SyncDate><SyncTime>13205100</SyncTime><ModDate>20200728</ModDate><ModTime>13205100</ModTime><scaleRange><minScale>150000000</minScale><maxScale>5000</maxScale></scaleRange><ArcGISProfile>ISO19139</ArcGISProfile></Esri><dataIdInfo><envirDesc Sync="TRUE"> Version 6.2 (Build 9200) ; Esri ArcGIS 10.6.0.8321</envirDesc><dataLang><languageCode value="eng" Sync="TRUE"/><countryCode value="USA" Sync="TRUE"/></dataLang><idCitation xmlns=""><resTitle Sync="TRUE">LDoS_Tslope_tau_pos_p01.tif</resTitle><presForm xmlns=""><PresFormCd value="003" Sync="FALSE"/><fgdcGeoform>raster digital data</fgdcGeoform></presForm><date><pubDate>2018-05-31T00:00:00</pubDate></date><datasetSeries><seriesName>Environmental Research Letters</seriesName><issId>6</issId></datasetSeries><issn>1748-9326</issn><otherCitDet>http://dx.doi.org/10.1088/1748-9326/aabd6f</otherCitDet><citRespParty xmlns=""><editorSource>external</editorSource><editorDigest>509923e6175f6463f5ee072c2d914506</editorDigest><rpIndName>Geoffrey M Henebry </rpIndName><rpOrgName>Department of Geography, Environment, and Spatial Sciences &amp; Center for Global Change and Earth Observations (CGCEO), Michigan State University</rpOrgName><rpPosName>Professor</rpPosName><rpCntInfo xmlns=""><cntAddress addressType="both"><delPoint>1405 S. Harrison Road, Manly Miles Building 218</delPoint><city>East Lansing</city><adminArea>Michigan</adminArea><postCode>48823</postCode><eMailAdd>henebryg@msu.edu</eMailAdd><country>US</country></cntAddress></rpCntInfo><editorSave>True</editorSave><displayName>Geoffrey M Henebry </displayName><role><RoleCd value="008"/></role></citRespParty><citRespParty xmlns=""><editorSource>external</editorSource><editorDigest>bf2d0fdaa84020f82abb5f87d71d59cc</editorDigest><rpIndName>Monika Anna Tomaszewska</rpIndName><rpOrgName>Michigan State University</rpOrgName><rpPosName>Research Associate</rpPosName><rpCntInfo xmlns=""><cntAddress addressType="both"><delPoint>1405 S. Harrison Road, Manly Miles Building 218</delPoint><city>East Lansing</city><adminArea>MI</adminArea><postCode>48823</postCode><eMailAdd>monikat@msu.edu</eMailAdd><country>US</country></cntAddress></rpCntInfo><editorSave>True</editorSave><displayName>Monika Anna Tomaszewska</displayName><role><RoleCd value="009"></RoleCd></role></citRespParty></idCitation><spatRpType><SpatRepTypCd value="002" Sync="TRUE"/></spatRpType><dataExt xmlns=""><geoEle xmlns=""><GeoBndBox esriExtentType="search"><exTypeCode Sync="TRUE">1</exTypeCode><westBL Sync="TRUE">67.400421</westBL><eastBL Sync="TRUE">81.926819</eastBL><northBL Sync="TRUE">43.288971</northBL><southBL Sync="TRUE">39.163066</southBL></GeoBndBox></geoEle><exDesc>Kyrgyzstan</exDesc></dataExt><idPurp>This raster layer has been used to create Figure 1c in Tomaszewska, M.A., Henebry, G.M., 2018. Changing snow seasonality in the highlands of Kyrgyzstan. Environ. Res. Lett. 13, 065006. https://doi.org/10.1088/1748-9326/aabd6f

It presents results of trend analysis (positive values of Thiel-Sen slope that were significantly different from zero at p&lt;0.1 significance level) of Last Date of Snow (LDoS) - snow metric calculated from the Terra MODIS snow cover product version 6 from 2002/03–2015/16. Details in credits section.</idPurp><idAbs>&lt;DIV STYLE="text-align:Left;"&gt;&lt;DIV&gt;&lt;DIV&gt;&lt;P STYLE="margin:0 0 0 0;"&gt;&lt;SPAN STYLE="font-size:12pt"&gt;Few studies have examined changing snow seasonality in Central Asia. Here, we analyzed changes in the seasonality of snow cover across Kyrgyzstan (KGZ) over 14 years from 2002/03–2015/16 using the most recent version (v006) of MODIS Terra and Aqua 8 day snow cover composites (MOD10A2/MYD10A2).We focused on three metrics of snow seasonality—first date of snow, last date of snow, and duration of snow season—and used nonparametric trends tests to assess the significance and direction of trends. We evaluated trends at three administration scales and across elevation. We used two techniques to assure that our identification of significant trends was not resulting from random spatial variation. First, we report only significant trends (positive or negative) that are at least twice as prevalent as the converse trends. Second, we use a two-stage analysis at the national scale to identify asymmetric directional changes in snow seasonality. &lt;/SPAN&gt;&lt;/P&gt;&lt;P STYLE="margin:0 0 0 0;"&gt;&lt;SPAN STYLE="font-size:12pt"&gt;Results show that more territory has been experiencing earlier onset of snow than earlier snowmelt, and roughly equivalent&lt;/SPAN&gt;&lt;/P&gt;&lt;P STYLE="margin:0 0 0 0;"&gt;&lt;SPAN STYLE="font-size:12pt"&gt;areas have been experiencing longer and shorter duration of snow seasons in the past 14 years. The changes are not uniform across KGZ, with significant shifts toward earlier snow arrival in western and central KGZ and significant shifts toward earlier snowmelt in eastern KGZ. The duration of the snow season has significantly shortened in western and eastern KGZ and significantly lengthened in northern and southwestern KGZ. Duration is significantly longer where the snow onset was significantly earlier or the snowmelt significantly later. There is a general trend of significantly earlier snowmelt below 3400m and the area of earlier snowmelt is 15 times greater in eastern than western&lt;/SPAN&gt;&lt;/P&gt;&lt;P STYLE="margin:0 0 0 0;"&gt;&lt;SPAN STYLE="font-size:12pt"&gt;districts. Significant trends in the Aqua product were less prevalent than in the Terra product, but the general trend toward earlier snowmelt was also evident in Aqua data.&lt;/SPAN&gt;&lt;/P&gt;&lt;/DIV&gt;&lt;/DIV&gt;&lt;/DIV&gt;</idAbs><idCredit>From: Tomaszewska, M.A., Henebry, G.M., 2018. Changing snow seasonality in the highlands of Kyrgyzstan. Environ. Res. Lett. 13, 065006. https://doi.org/10.1088/1748-9326/aabd6f

To characterize snow seasonality, we used the most recent Version 6 of the MODIS Terra snow cover 8 day composites with a nominal spatial resolution of 500m (MOD10A2) for the period of 14 years starting in 2002. This dataset reports the maximum snow cover extent observed during an 8 day period by compositing 500m observations from the MODIS daily snow cover products (MOD10A1) generated by The National Snow and Ice Data Center (https://
nsidc.org/).
 
We postprocessed the products by mosaicking two MODIS tiles (h23v04 and h23v05), reprojecting into WGS-1984, and extracting all pixels flagged as ‘snow’. There were 46 composited images per year per. efined the observation season for each year to start on day of the year (DOY) 169—approximately the summer solstice—and extend to DOY 168 of the following year (DOY169year through DOY168year+1). Thus, we analyzed a 14 year time series starting in the middle of 2002 and ending in middle of 2016. For each snow season, we tracked three snow cover variables: the first date of snow (FDoS), the last date of snow (LDoS), and the duration of snow season (DoSS). FDoS was the composite date when the snow pixel is marked as 1 (snow on) first time for each snow season. LDoS was calculated inversely, the composite date of the last appearance of snow during the snow season. The DoSS was the simple difference between the LDoS and the FDoS.</idCredit><searchKeys><keyword>Kyrgyzstan</keyword><keyword>positive Thiel-Sen slope</keyword><keyword>Last Date of Snow</keyword><keyword>p&lt;0.1</keyword></searchKeys><placeKeys xmlns=""><keyword>Kyrgyzstan</keyword></placeKeys><tempKeys xmlns=""><keyword>from 2002/03 to 2015/16</keyword></tempKeys><dataChar><CharSetCd value="004"/></dataChar><dataScale xmlns=""><scaleDist><value uom="m">463.312714</value></scaleDist></dataScale><idStatus><ProgCd value="001"/></idStatus><idPoC xmlns=""><editorSource>external</editorSource><editorDigest>509923e6175f6463f5ee072c2d914506</editorDigest><rpIndName>Geoffrey M Henebry </rpIndName><rpOrgName>Department of Geography, Environment, and Spatial Sciences &amp; Center for Global Change and Earth Observations (CGCEO), Michigan State University</rpOrgName><rpPosName>Professor</rpPosName><rpCntInfo xmlns=""><cntAddress addressType="both"><delPoint>1405 S. Harrison Road, Manly Miles Building 218</delPoint><city>East Lansing</city><adminArea>Michigan</adminArea><postCode>48823</postCode><eMailAdd>henebryg@msu.edu</eMailAdd><country>US</country></cntAddress></rpCntInfo><editorSave>True</editorSave><displayName>Geoffrey M Henebry </displayName><role><RoleCd value="008"/></role></idPoC><resMaint xmlns=""><maintFreq><MaintFreqCd value="011"/></maintFreq><maintCont xmlns=""><editorSource>external</editorSource><editorDigest>509923e6175f6463f5ee072c2d914506</editorDigest><rpIndName>Geoffrey M Henebry </rpIndName><rpOrgName>Department of Geography, Environment, and Spatial Sciences &amp; Center for Global Change and Earth Observations (CGCEO), Michigan State University</rpOrgName><rpPosName>Professor</rpPosName><rpCntInfo xmlns=""><cntAddress addressType="both"><delPoint>1405 S. Harrison Road, Manly Miles Building 218</delPoint><city>East Lansing</city><adminArea>Michigan</adminArea><postCode>48823</postCode><eMailAdd>henebryg@msu.edu</eMailAdd><country>US</country></cntAddress></rpCntInfo><editorSave>True</editorSave><displayName>Geoffrey M Henebry </displayName><role><RoleCd value="008"/></role></maintCont><maintCont xmlns=""><editorSource>external</editorSource><editorDigest>bf2d0fdaa84020f82abb5f87d71d59cc</editorDigest><rpIndName>Monika Anna Tomaszewska</rpIndName><rpOrgName>Michigan State University</rpOrgName><rpPosName>Research Associate</rpPosName><rpCntInfo xmlns=""><cntAddress addressType="both"><delPoint>1405 S. Harrison Road, Manly Miles Building 218</delPoint><city>East Lansing</city><adminArea>MI</adminArea><postCode>48823</postCode><eMailAdd>monikat@msu.edu</eMailAdd><country>US</country></cntAddress></rpCntInfo><editorSave>True</editorSave><displayName>Monika Anna Tomaszewska</displayName><role><RoleCd value="009"></RoleCd></role></maintCont></resMaint><idPoC xmlns=""><editorSource>external</editorSource><editorDigest>bf2d0fdaa84020f82abb5f87d71d59cc</editorDigest><rpIndName>Monika Anna Tomaszewska</rpIndName><rpOrgName>Michigan State University</rpOrgName><rpPosName>Research Associate</rpPosName><rpCntInfo xmlns=""><cntAddress addressType="both"><delPoint>1405 S. Harrison Road, Manly Miles Building 218</delPoint><city>East Lansing</city><adminArea>MI</adminArea><postCode>48823</postCode><eMailAdd>monikat@msu.edu</eMailAdd><country>US</country></cntAddress></rpCntInfo><editorSave>True</editorSave><displayName>Monika Anna Tomaszewska</displayName><role><RoleCd value="009"></RoleCd></role></idPoC><tpCat><TopicCatCd value="007"/></tpCat></dataIdInfo><mdLang><languageCode value="eng" Sync="TRUE"/><countryCode value="USA" Sync="TRUE"/></mdLang><mdChar><CharSetCd value="004" Sync="TRUE"/></mdChar><distInfo xmlns=""><distFormat xmlns=""><formatName Sync="TRUE">Raster Dataset</formatName><formatVer>GeoTiff</formatVer></distFormat></distInfo><mdHrLv><ScopeCd value="005" Sync="TRUE"/></mdHrLv><mdHrLvName Sync="TRUE">dataset</mdHrLvName><refSysInfo><RefSystem dimension=""><refSysID xmlns=""><identCode code="54008" Sync="FALSE"/><idCodeSpace>ESRI</idCodeSpace></refSysID></RefSystem></refSysInfo><spatRepInfo><Georect><cellGeo><CellGeoCd Sync="TRUE" value="002"/></cellGeo><numDims Sync="TRUE">2</numDims><tranParaAv Sync="TRUE">1</tranParaAv><chkPtAv Sync="TRUE">0</chkPtAv><cornerPts><pos Sync="TRUE">5825230.783200 4336607.034330</pos></cornerPts><cornerPts><pos Sync="TRUE">5825230.783200 4794823.308100</pos></cornerPts><cornerPts><pos Sync="TRUE">6649000.788016 4794823.308100</pos></cornerPts><cornerPts><pos Sync="TRUE">6649000.788016 4336607.034330</pos></cornerPts><centerPt><pos Sync="TRUE">6237115.785608 4565715.171215</pos></centerPt><axisDimension type="002"><dimSize Sync="TRUE">1778</dimSize><dimResol><value Sync="TRUE" uom="m">463.312714</value></dimResol></axisDimension><axisDimension type="001"><dimSize Sync="TRUE">989</dimSize><dimResol><value Sync="TRUE" uom="m">463.312714</value></dimResol></axisDimension><ptInPixel><PixOrientCd Sync="TRUE" value="001"/></ptInPixel></Georect></spatRepInfo><contInfo><ImgDesc xmlns=""><contentTyp><ContentTypCd Sync="TRUE" value="001"/></contentTyp><covDim><Band xmlns=""><dimDescrp Sync="TRUE">Band_1</dimDescrp><maxVal Sync="TRUE">16.000000</maxVal><minVal Sync="TRUE">-0.000000</minVal><bitsPerVal Sync="TRUE">32</bitsPerVal><valUnit><UOM type="length" gmlID=""/></valUnit></Band></covDim><attDesc>positive values of Thiel-Sen slope that were significantly at different from zero at p&lt;0.1 significance level) of Last Date of Snow (LDoS) - snow metric calculated from the Terra MODIS snow cover product version 6 from 2002/03–2015/16.</attDesc><trianInd>False</trianInd><radCalDatAv>False</radCalDatAv><camCalInAv>False</camCalInAv><filmDistInAv>False</filmDistInAv><lensDistInAv>False</lensDistInAv></ImgDesc></contInfo><mdDateSt Sync="TRUE">20200728</mdDateSt><mdFileID>05A1CBF2-FC2A-4508-A2AA-4FA80EFC69F4</mdFileID><mdContact xmlns=""><editorSource>external</editorSource><editorDigest>509923e6175f6463f5ee072c2d914506</editorDigest><rpIndName>Geoffrey M Henebry </rpIndName><rpOrgName>Department of Geography, Environment, and Spatial Sciences &amp; Center for Global Change and Earth Observations (CGCEO), Michigan State University</rpOrgName><rpPosName>Professor</rpPosName><rpCntInfo xmlns=""><cntAddress addressType="both"><delPoint>1405 S. Harrison Road, Manly Miles Building 218</delPoint><city>East Lansing</city><adminArea>Michigan</adminArea><postCode>48823</postCode><eMailAdd>henebryg@msu.edu</eMailAdd><country>US</country></cntAddress></rpCntInfo><editorSave>True</editorSave><displayName>Geoffrey M Henebry </displayName><role><RoleCd value="008"/></role></mdContact><mdMaint xmlns=""><maintFreq><MaintFreqCd value="011"/></maintFreq><maintCont xmlns=""><editorSource>external</editorSource><editorDigest>509923e6175f6463f5ee072c2d914506</editorDigest><rpIndName>Geoffrey M Henebry </rpIndName><rpOrgName>Department of Geography, Environment, and Spatial Sciences &amp; Center for Global Change and Earth Observations (CGCEO), Michigan State University</rpOrgName><rpPosName>Professor</rpPosName><rpCntInfo xmlns=""><cntAddress addressType="both"><delPoint>1405 S. Harrison Road, Manly Miles Building 218</delPoint><city>East Lansing</city><adminArea>Michigan</adminArea><postCode>48823</postCode><eMailAdd>henebryg@msu.edu</eMailAdd><country>US</country></cntAddress></rpCntInfo><editorSave>True</editorSave><displayName>Geoffrey M Henebry </displayName><role><RoleCd value="008"/></role></maintCont><maintCont xmlns=""><editorSource>external</editorSource><editorDigest>bf2d0fdaa84020f82abb5f87d71d59cc</editorDigest><rpIndName>Monika Anna Tomaszewska</rpIndName><rpOrgName>Michigan State University</rpOrgName><rpPosName>Research Associate</rpPosName><rpCntInfo xmlns=""><cntAddress addressType="both"><delPoint>1405 S. Harrison Road, Manly Miles Building 218</delPoint><city>East Lansing</city><adminArea>MI</adminArea><postCode>48823</postCode><eMailAdd>monikat@msu.edu</eMailAdd><country>US</country></cntAddress></rpCntInfo><editorSave>True</editorSave><displayName>Monika Anna Tomaszewska</displayName><role><RoleCd value="009"></RoleCd></role></maintCont></mdMaint><mdContact xmlns=""><editorSource>external</editorSource><editorDigest>bf2d0fdaa84020f82abb5f87d71d59cc</editorDigest><rpIndName>Monika Anna Tomaszewska</rpIndName><rpOrgName>Michigan State University</rpOrgName><rpPosName>Research Associate</rpPosName><rpCntInfo xmlns=""><cntAddress addressType="both"><delPoint>1405 S. Harrison Road, Manly Miles Building 218</delPoint><city>East Lansing</city><adminArea>MI</adminArea><postCode>48823</postCode><eMailAdd>monikat@msu.edu</eMailAdd><country>US</country></cntAddress></rpCntInfo><editorSave>True</editorSave><displayName>Monika Anna Tomaszewska</displayName><role><RoleCd value="009"></RoleCd></role></mdContact></metadata>
