<metadata xml:lang="en"><Esri><CreaDate>20200722</CreaDate><CreaTime>10011900</CreaTime><ArcGISFormat>1.0</ArcGISFormat><ArcGISstyle>ISO 19139 Metadata Implementation Specification GML3.2</ArcGISstyle><SyncOnce>FALSE</SyncOnce><DataProperties><itemProps><itemName Sync="TRUE">LDoS_mean_rs_pastures_KGZ_reclass_cxq.tif</itemName><itemLocation><linkage Sync="TRUE">file://C:\Metadata\RSE\Fig3\LDoS_mean_rs_pastures_KGZ_reclass_cxq.tif</linkage><protocol Sync="TRUE">Local Area Network</protocol></itemLocation><imsContentType Sync="FALSE" export="False">004</imsContentType><nativeExtBox><westBL Sync="TRUE">-1984770.000000</westBL><eastBL Sync="TRUE">-1101330.000000</eastBL><southBL Sync="TRUE">1312980.000000</southBL><northBL Sync="TRUE">1767060.000000</northBL><exTypeCode Sync="TRUE">1</exTypeCode></nativeExtBox></itemProps><coordRef><type Sync="TRUE">Projected</type><geogcsn Sync="TRUE">GCS_WGS_1984</geogcsn><csUnits Sync="TRUE">Linear Unit: Meter (1.000000)</csUnits><projcsn Sync="TRUE">Albers_Conic_Equal_Area</projcsn><peXml Sync="TRUE">&lt;ProjectedCoordinateSystem xsi:type='typens:ProjectedCoordinateSystem' xmlns:xsi='http://www.w3.org/2001/XMLSchema-instance' xmlns:xs='http://www.w3.org/2001/XMLSchema' xmlns:typens='http://www.esri.com/schemas/ArcGIS/10.6'&gt;&lt;WKT&gt;PROJCS[&amp;quot;Albers_Conic_Equal_Area&amp;quot;,GEOGCS[&amp;quot;GCS_WGS_1984&amp;quot;,DATUM[&amp;quot;D_WGS_1984&amp;quot;,SPHEROID[&amp;quot;WGS_1984&amp;quot;,6378137.0,298.257223563]],PRIMEM[&amp;quot;Greenwich&amp;quot;,0.0],UNIT[&amp;quot;Degree&amp;quot;,0.0174532925199433]],PROJECTION[&amp;quot;Albers&amp;quot;],PARAMETER[&amp;quot;false_easting&amp;quot;,0.0],PARAMETER[&amp;quot;false_northing&amp;quot;,0.0],PARAMETER[&amp;quot;central_meridian&amp;quot;,95.0],PARAMETER[&amp;quot;standard_parallel_1&amp;quot;,15.0],PARAMETER[&amp;quot;standard_parallel_2&amp;quot;,65.0],PARAMETER[&amp;quot;latitude_of_origin&amp;quot;,30.0],UNIT[&amp;quot;Meter&amp;quot;,1.0]]&lt;/WKT&gt;&lt;XOrigin&gt;-16934700&lt;/XOrigin&gt;&lt;YOrigin&gt;-8092500&lt;/YOrigin&gt;&lt;XYScale&gt;265939144.32322362&lt;/XYScale&gt;&lt;ZOrigin&gt;-100000&lt;/ZOrigin&gt;&lt;ZScale&gt;10000&lt;/ZScale&gt;&lt;MOrigin&gt;-100000&lt;/MOrigin&gt;&lt;MScale&gt;10000&lt;/MScale&gt;&lt;XYTolerance&gt;0.001&lt;/XYTolerance&gt;&lt;ZTolerance&gt;0.001&lt;/ZTolerance&gt;&lt;MTolerance&gt;0.001&lt;/MTolerance&gt;&lt;HighPrecision&gt;true&lt;/HighPrecision&gt;&lt;/ProjectedCoordinateSystem&gt;</peXml></coordRef><RasterProperties><General><PixelDepth Sync="TRUE">32</PixelDepth><HasColormap Sync="TRUE">FALSE</HasColormap><CompressionType Sync="TRUE">LZW</CompressionType><NumBands Sync="TRUE">1</NumBands><Format Sync="TRUE">TIFF</Format><HasPyramids Sync="TRUE">FALSE</HasPyramids><SourceType Sync="TRUE">continuous</SourceType><PixelType Sync="TRUE">floating point</PixelType><NoDataValue Sync="TRUE">-3.4e+38</NoDataValue></General></RasterProperties></DataProperties><SyncDate>20200728</SyncDate><SyncTime>15544100</SyncTime><ModDate>20200728</ModDate><ModTime>15550000</ModTime><scaleRange><minScale>150000000</minScale><maxScale>5000</maxScale></scaleRange><ArcGISProfile>ISO19139</ArcGISProfile></Esri><dataIdInfo><envirDesc Sync="TRUE"> Version 6.2 (Build 9200) ; Esri ArcGIS 10.6.0.8321</envirDesc><dataLang><languageCode value="eng" Sync="TRUE"/><countryCode value="USA" Sync="TRUE"/></dataLang><idCitation xmlns=""><resTitle Sync="TRUE">LDoS_mean_rs_pastures_KGZ_reclass_cxq.tif</resTitle><presForm xmlns=""><PresFormCd value="003" Sync="FALSE"/><fgdcGeoform>raster digital data</fgdcGeoform></presForm><date><pubDate>2020-01-31T00:00:00</pubDate></date><datasetSeries><seriesName>Remote Sensing of Environment</seriesName><issId>240</issId></datasetSeries><issn>0034-4257</issn><otherCitDet>https://doi.org/10.1016/j.rse.2020.111675</otherCitDet><citRespParty xmlns=""><editorSource>external</editorSource><editorDigest>509923e6175f6463f5ee072c2d914506</editorDigest><rpIndName>Geoffrey M Henebry </rpIndName><rpOrgName>Department of Geography, Environment, and Spatial Sciences &amp; Center for Global Change and Earth Observations (CGCEO), Michigan State University</rpOrgName><rpPosName>Professor</rpPosName><rpCntInfo xmlns=""><cntAddress addressType="both"><delPoint>1405 S. Harrison Road, Manly Miles Building 218</delPoint><city>East Lansing</city><adminArea>Michigan</adminArea><postCode>48823</postCode><eMailAdd>henebryg@msu.edu</eMailAdd><country>US</country></cntAddress></rpCntInfo><editorSave>True</editorSave><displayName>Geoffrey M Henebry </displayName><role><RoleCd value="008"/></role></citRespParty><citRespParty xmlns=""><editorSource>external</editorSource><editorDigest>bf2d0fdaa84020f82abb5f87d71d59cc</editorDigest><rpIndName>Monika Anna Tomaszewska</rpIndName><rpOrgName>Michigan State University</rpOrgName><rpPosName>Research Associate</rpPosName><rpCntInfo xmlns=""><cntAddress addressType="both"><delPoint>1405 S. Harrison Road, Manly Miles Building 218</delPoint><city>East Lansing</city><adminArea>MI</adminArea><postCode>48823</postCode><eMailAdd>monikat@msu.edu</eMailAdd><country>US</country></cntAddress></rpCntInfo><editorSave>True</editorSave><displayName>Monika Anna Tomaszewska</displayName><role><RoleCd value="009"/></role></citRespParty></idCitation><spatRpType><SpatRepTypCd value="002" Sync="TRUE"/></spatRpType><dataExt xmlns=""><geoEle xmlns=""><GeoBndBox esriExtentType="search"><exTypeCode Sync="TRUE">1</exTypeCode><westBL Sync="TRUE">68.126509</westBL><eastBL Sync="TRUE">80.728520</eastBL><northBL Sync="TRUE">43.888600</northBL><southBL Sync="TRUE">38.765312</southBL></GeoBndBox></geoEle><exDesc>Kyrgyzstan</exDesc></dataExt><idPurp>This raster layer has been used to create Figure 3 in Tomaszewska, M.A., Nguyen, L.H., Henebry, G.M., 2020. Land surface phenology in the highland pastures of montane Central Asia: Interactions with snow cover seasonality and terrain characteristics. Remote Sens. Environ. 240, 111675. https://doi.org/10.1016/j.rse.2020.111675

It presents 17 years mean values of Last Date of Snow (LDoS) - snow metric calculated from the Terra MODIS snow cover product version 6 from 2000 to the end of 2017. Details in credits section.</idPurp><idAbs>&lt;DIV STYLE="text-align:Left;"&gt;&lt;DIV&gt;&lt;DIV&gt;&lt;P STYLE="margin:0 0 0 0;"&gt;&lt;SPAN STYLE="font-size:14pt"&gt;Many studies have shown that high elevation environments are among very sensitive to climatic changes and where impacts are exacerbated. Across Central Asia, which is especially vulnerable to climate change due to aridity, the ability of global climate projections to capture the complex dynamics of mountainous environments is particularly limited. Over montane Central Asia, agropastoralism constitutes a major portion of the rural economy. Extensive herbaceous vegetation forms the basis of rural economies in Kyrgyzstan. Here we focus on snow cover seasonality and the effects of terrain on phenology in highland pastures using remote sensing data for 2001–2017. First, we describe the thermal regime of growing season using MODerate Resolution Imaging Spectrometer (MODIS) land surface temperature (LST) data, analyzing the modulation by elevation, slope, and aspect. We then characterized the phenology in highland pastures with metrics derived from modeling the land surface phenology using Landsat normalized difference vegetation index (NDVI) time series together with MODIS LST data. Using rank correlations, we then analyzed the influence of four metrics of snow cover seasonality calculated from MODIS snow cover composites—first date of snow, late date of snow, duration of snow season, and the number of snow-covered dates (SCD)—on two key metrics of land surface phenology in the subsequent growing season, specifically, peak height (PH; the maximum modeled NDVI) and thermal time to peak (TTP; the amount of growing degree-days accumulated during modeled green-up phase). We evaluated the role of terrain features in shaping the relationships between snow cover metrics and land surface phenology metrics using exact multinomial tests of equivalence. Key findings include (1) a positive relationship between SCD and PH occurred in over 1664 km2 at p &amp;lt; 0.01 and 5793 km2 at p &amp;lt; 0.05, which account for&amp;gt;8% of 68,881 km2 of the pasturelands analyzed in Kyrgyzstan; (2) more negative than positive correlations were found between snow cover onset and PH, and more positive correlations were observed between snowmelt timing and PH, indicating that a longer snow season can positively influence PH; (3) significant negative correlations between TTP and SCD appeared in 1840 km2 at p &amp;lt; 0.01 and 6208 km2 at p &amp;lt; 0.05, and a comparable but smaller area showed negative correlations between TTP and last date of snow (1538 km2 at p &amp;lt; 0.01 and 5188 km2 at p &amp;lt; 0.05), indicating that under changing climatic conditions toward earlier spring warming, decreased duration of snow cover may lead to lower pasture productivity, thereby threatening the sustainability of montane agropastoralism; and (4) terrain had a stronger influence on the timing of last date of snow cover than on the number of snow-covered dates, with slope being more important than aspect, and the strongest effect appearing from the interaction of aspect and steeper slopes. In this study, we characterized the snow-phenology interactions in highland pastures and revealed strong dependencies of pasture phenology on timing of snowmelt and the number of snow-covered dates.&lt;/SPAN&gt;&lt;/P&gt;&lt;/DIV&gt;&lt;/DIV&gt;&lt;/DIV&gt;</idAbs><idCredit>From: Tomaszewska, M.A., Nguyen, L.H., Henebry, G.M., 2020. Land surface phenology in the highland pastures of montane Central Asia: Interactions with snow cover seasonality and terrain characteristics. Remote Sens. Environ. 240, 111675. https://doi.org/10.1016/j.rse.2020.111675

To calcutate snow cover metrics,  we used the most recent version of the MODIS Terra snow cover 8-
day composites (MOD10A2 V006; Riggs and Hall, 2015) distributed by the National Snow and Ice Data Center (https://nsidc.org/). The nominal spatial resolution is 500 m, and the data are provided in a sinusoidal projection. MOD10A2 product reports the maximum snow cover extent observed during 8-day period by compositing observations from the MODIS/Terra Snow Cover Daily L3 Global 500 m Grid product (MOD10A1 V006), where the snow cover information is derived using the Normalized Difference Snow Index (NDSI). The annual dataset contains 46 8-day composites. We downloaded two MODIS tiles (h23v04 and h23v05) from 2000 to the end of 2017, resampled them to 30 m using nearest neighbors.
We described snow seasonality by generating four temporal metrics for each snow season. We defined our observation window to bound the snow cover season each year by starting on the day of year (DOY) 169 (approximately the summer solstice) and extending to DOY 168 in the following year (DOY169year through DOY168year+1). This approach
enabled us to identify the first and last appearances of snow cover during the cold season. We generated four snow cover metrics: First Date of Snow (FDoS), Last Date of Snow (LDoS), Duration of Snow Season (DoSS), and the number of Snow-Covered Dates (SCD). FDoS is the composite date when the pixel is flagged as snow for the first time each snow cover season. LDoS is, conversely to FDoS, the last composite date with pixel marked as snow in each of the snow season. DoSS is the difference in composite dates between LDoS and FDoS multiplied by 8 to align with DOY [(LDoS – FDoS+1)*8]; SCD is a number of composites with snow cover present between FDoS and LDoS, also multiplied by 8.

Riggs, G.A., Hall, D.K., 2015. MODIS Snow Products Collection 6 User Guide. NSIDC.
https://nsidc.org/sites/nsidc.org/files/files/MODIS-snow-user-guide-C6.pdf.
Rossi, M., Niedrist, G., Asam, S., Tonon, G., Tomelleri, E., Zebisch, M., Rossi, M., Niedrist,</idCredit><searchKeys><keyword>Kyrgyzstan</keyword><keyword>mean Last Date of Snow (LDoS)</keyword></searchKeys><placeKeys xmlns=""><keyword>Kyrgyzstan</keyword></placeKeys><tempKeys xmlns=""><keyword>from 2000 to the end of 2017</keyword></tempKeys><dataChar><CharSetCd value="004"/></dataChar><dataScale xmlns=""><scaleDist><value uom="m">30</value></scaleDist></dataScale><idStatus><ProgCd value="001"/></idStatus><idPoC xmlns=""><editorSource>external</editorSource><editorDigest>509923e6175f6463f5ee072c2d914506</editorDigest><rpIndName>Geoffrey M Henebry </rpIndName><rpOrgName>Department of Geography, Environment, and Spatial Sciences &amp; Center for Global Change and Earth Observations (CGCEO), Michigan State University</rpOrgName><rpPosName>Professor</rpPosName><rpCntInfo xmlns=""><cntAddress addressType="both"><delPoint>1405 S. Harrison Road, Manly Miles Building 218</delPoint><city>East Lansing</city><adminArea>Michigan</adminArea><postCode>48823</postCode><eMailAdd>henebryg@msu.edu</eMailAdd><country>US</country></cntAddress></rpCntInfo><editorSave>True</editorSave><displayName>Geoffrey M Henebry </displayName><role><RoleCd value="008"/></role></idPoC><resMaint xmlns=""><maintFreq><MaintFreqCd value="011"/></maintFreq><maintCont xmlns=""><editorSource>external</editorSource><editorDigest>509923e6175f6463f5ee072c2d914506</editorDigest><rpIndName>Geoffrey M Henebry </rpIndName><rpOrgName>Department of Geography, Environment, and Spatial Sciences &amp; Center for Global Change and Earth Observations (CGCEO), Michigan State University</rpOrgName><rpPosName>Professor</rpPosName><rpCntInfo xmlns=""><cntAddress addressType="both"><delPoint>1405 S. Harrison Road, Manly Miles Building 218</delPoint><city>East Lansing</city><adminArea>Michigan</adminArea><postCode>48823</postCode><eMailAdd>henebryg@msu.edu</eMailAdd><country>US</country></cntAddress></rpCntInfo><editorSave>True</editorSave><displayName>Geoffrey M Henebry </displayName><role><RoleCd value="008"/></role></maintCont><maintCont xmlns=""><editorSource>external</editorSource><editorDigest>bf2d0fdaa84020f82abb5f87d71d59cc</editorDigest><rpIndName>Monika Anna Tomaszewska</rpIndName><rpOrgName>Michigan State University</rpOrgName><rpPosName>Research Associate</rpPosName><rpCntInfo xmlns=""><cntAddress addressType="both"><delPoint>1405 S. Harrison Road, Manly Miles Building 218</delPoint><city>East Lansing</city><adminArea>MI</adminArea><postCode>48823</postCode><eMailAdd>monikat@msu.edu</eMailAdd><country>US</country></cntAddress></rpCntInfo><editorSave>True</editorSave><displayName>Monika Anna Tomaszewska</displayName><role><RoleCd value="009"/></role></maintCont></resMaint><idPoC xmlns=""><editorSource>external</editorSource><editorDigest>bf2d0fdaa84020f82abb5f87d71d59cc</editorDigest><rpIndName>Monika Anna Tomaszewska</rpIndName><rpOrgName>Michigan State University</rpOrgName><rpPosName>Research Associate</rpPosName><rpCntInfo xmlns=""><cntAddress addressType="both"><delPoint>1405 S. Harrison Road, Manly Miles Building 218</delPoint><city>East Lansing</city><adminArea>MI</adminArea><postCode>48823</postCode><eMailAdd>monikat@msu.edu</eMailAdd><country>US</country></cntAddress></rpCntInfo><editorSave>True</editorSave><displayName>Monika Anna Tomaszewska</displayName><role><RoleCd value="009"/></role></idPoC><tpCat><TopicCatCd value="007"/></tpCat></dataIdInfo><mdLang><languageCode value="eng" Sync="TRUE"/><countryCode value="USA" Sync="TRUE"/></mdLang><mdChar><CharSetCd value="004" Sync="TRUE"/></mdChar><distInfo xmlns=""><distFormat xmlns=""><formatName Sync="TRUE">Raster Dataset</formatName><formatVer>GeoTiff</formatVer></distFormat></distInfo><mdHrLv><ScopeCd value="005" Sync="TRUE"/></mdHrLv><mdHrLvName Sync="TRUE">dataset</mdHrLvName><refSysInfo><RefSystem dimension=""><refSysID xmlns=""><identCode code="9822" Sync="FALSE"/><idCodeSpace>EPSG</idCodeSpace></refSysID></RefSystem></refSysInfo><spatRepInfo><Georect><cellGeo><CellGeoCd Sync="TRUE" value="002"/></cellGeo><numDims Sync="TRUE">2</numDims><tranParaAv Sync="TRUE">1</tranParaAv><chkPtAv Sync="TRUE">0</chkPtAv><cornerPts><pos Sync="TRUE">-1984770.000000 1312980.000000</pos></cornerPts><cornerPts><pos Sync="TRUE">-1984770.000000 1767060.000000</pos></cornerPts><cornerPts><pos Sync="TRUE">-1101330.000000 1767060.000000</pos></cornerPts><cornerPts><pos Sync="TRUE">-1101330.000000 1312980.000000</pos></cornerPts><centerPt><pos Sync="TRUE">-1543050.000000 1540020.000000</pos></centerPt><axisDimension type="002"><dimSize Sync="TRUE">29448</dimSize><dimResol><value Sync="TRUE" uom="m">30.000000</value></dimResol></axisDimension><axisDimension type="001"><dimSize Sync="TRUE">15136</dimSize><dimResol><value Sync="TRUE" uom="m">30.000000</value></dimResol></axisDimension><ptInPixel><PixOrientCd Sync="TRUE" value="001"/></ptInPixel></Georect></spatRepInfo><contInfo><ImgDesc xmlns=""><contentTyp><ContentTypCd Sync="TRUE" value="001"/></contentTyp><covDim><Band xmlns=""><dimDescrp Sync="TRUE">Band_1</dimDescrp><maxVal Sync="TRUE">361.000000</maxVal><minVal Sync="TRUE">120.000000</minVal><bitsPerVal Sync="TRUE">32</bitsPerVal><valUnit><UOM type="length" gmlID=""/></valUnit></Band></covDim><attDesc>17 years mean values of Last Date of Snow (LDoS) - snow metric calculated from the Terra MODIS snow cover product version 6 from 2000 to the end of 2017.</attDesc><trianInd>False</trianInd><radCalDatAv>False</radCalDatAv><camCalInAv>False</camCalInAv><filmDistInAv>False</filmDistInAv><lensDistInAv>False</lensDistInAv></ImgDesc></contInfo><mdDateSt Sync="TRUE">20200728</mdDateSt><mdFileID>9D97033D-91E2-4C4E-90C0-C1D5D648FCE6</mdFileID><mdContact xmlns=""><editorSource>external</editorSource><editorDigest>509923e6175f6463f5ee072c2d914506</editorDigest><rpIndName>Geoffrey M Henebry </rpIndName><rpOrgName>Department of Geography, Environment, and Spatial Sciences &amp; Center for Global Change and Earth Observations (CGCEO), Michigan State University</rpOrgName><rpPosName>Professor</rpPosName><rpCntInfo xmlns=""><cntAddress addressType="both"><delPoint>1405 S. Harrison Road, Manly Miles Building 218</delPoint><city>East Lansing</city><adminArea>Michigan</adminArea><postCode>48823</postCode><eMailAdd>henebryg@msu.edu</eMailAdd><country>US</country></cntAddress></rpCntInfo><editorSave>True</editorSave><displayName>Geoffrey M Henebry </displayName><role><RoleCd value="008"/></role></mdContact><mdMaint xmlns=""><maintFreq><MaintFreqCd value="011"/></maintFreq><maintCont xmlns=""><editorSource>external</editorSource><editorDigest>509923e6175f6463f5ee072c2d914506</editorDigest><rpIndName>Geoffrey M Henebry </rpIndName><rpOrgName>Department of Geography, Environment, and Spatial Sciences &amp; Center for Global Change and Earth Observations (CGCEO), Michigan State University</rpOrgName><rpPosName>Professor</rpPosName><rpCntInfo xmlns=""><cntAddress addressType="both"><delPoint>1405 S. Harrison Road, Manly Miles Building 218</delPoint><city>East Lansing</city><adminArea>Michigan</adminArea><postCode>48823</postCode><eMailAdd>henebryg@msu.edu</eMailAdd><country>US</country></cntAddress></rpCntInfo><editorSave>True</editorSave><displayName>Geoffrey M Henebry </displayName><role><RoleCd value="008"/></role></maintCont><maintCont xmlns=""><editorSource>external</editorSource><editorDigest>bf2d0fdaa84020f82abb5f87d71d59cc</editorDigest><rpIndName>Monika Anna Tomaszewska</rpIndName><rpOrgName>Michigan State University</rpOrgName><rpPosName>Research Associate</rpPosName><rpCntInfo xmlns=""><cntAddress addressType="both"><delPoint>1405 S. Harrison Road, Manly Miles Building 218</delPoint><city>East Lansing</city><adminArea>MI</adminArea><postCode>48823</postCode><eMailAdd>monikat@msu.edu</eMailAdd><country>US</country></cntAddress></rpCntInfo><editorSave>True</editorSave><displayName>Monika Anna Tomaszewska</displayName><role><RoleCd value="009"/></role></maintCont></mdMaint><mdContact xmlns=""><editorSource>external</editorSource><editorDigest>bf2d0fdaa84020f82abb5f87d71d59cc</editorDigest><rpIndName>Monika Anna Tomaszewska</rpIndName><rpOrgName>Michigan State University</rpOrgName><rpPosName>Research Associate</rpPosName><rpCntInfo xmlns=""><cntAddress addressType="both"><delPoint>1405 S. Harrison Road, Manly Miles Building 218</delPoint><city>East Lansing</city><adminArea>MI</adminArea><postCode>48823</postCode><eMailAdd>monikat@msu.edu</eMailAdd><country>US</country></cntAddress></rpCntInfo><editorSave>True</editorSave><displayName>Monika Anna Tomaszewska</displayName><role><RoleCd value="009"/></role></mdContact></metadata>
